BEGIN:VCALENDAR
VERSION:2.0
PRODID:-//CInderberry Estates - ECPv6.13.2.1//NONSGML v1.0//EN
CALSCALE:GREGORIAN
METHOD:PUBLISH
X-WR-CALNAME:CInderberry Estates
X-ORIGINAL-URL:https://cinderberryestates.com
X-WR-CALDESC:Events for CInderberry Estates
REFRESH-INTERVAL;VALUE=DURATION:PT1H
X-Robots-Tag:noindex
X-PUBLISHED-TTL:PT1H
BEGIN:VTIMEZONE
TZID:UTC
BEGIN:STANDARD
TZOFFSETFROM:+0000
TZOFFSETTO:+0000
TZNAME:UTC
DTSTART:20240101T000000
END:STANDARD
END:VTIMEZONE
BEGIN:VTIMEZONE
TZID:America/New_York
BEGIN:DAYLIGHT
TZOFFSETFROM:-0500
TZOFFSETTO:-0400
TZNAME:EDT
DTSTART:20240310T070000
END:DAYLIGHT
BEGIN:STANDARD
TZOFFSETFROM:-0400
TZOFFSETTO:-0500
TZNAME:EST
DTSTART:20241103T060000
END:STANDARD
END:VTIMEZONE
BEGIN:VEVENT
DTSTART;TZID=UTC:20251220T180000
DTEND;TZID=UTC:20251220T200000
DTSTAMP:20260424T095113
CREATED:20251209T234643Z
LAST-MODIFIED:20251209T234643Z
UID:1226-1766253600-1766260800@cinderberryestates.com
SUMMARY:Annual Christmas Luminary
DESCRIPTION:Our annual luminary night is scheduled for Saturday December 20th\, Rain date Sunday the 21st. We will construct the luminaries Friday the 19th at 6 at 4 Boisenberry Ln\, if you have wagons available to bring that would be a great help! \nSaturday we will meet at 5:15 to distribute\, place and light the bags at 6. If you are available to help would be great\, it seems to go a little smoother each year hopefully this year as well! Thank you!
URL:https://cinderberryestates.com/event/annual-christmas-luminary/
END:VEVENT
BEGIN:VEVENT
DTSTART;TZID=UTC:20240914T070000
DTEND;TZID=UTC:20240914T130000
DTSTAMP:20260424T095113
CREATED:20240428T190219Z
LAST-MODIFIED:20240508T163512Z
UID:1170-1726297200-1726318800@cinderberryestates.com
SUMMARY:Autumn Cinderberry Estates Homeowners yard sale
DESCRIPTION:Saturday\, September 14\, 7 am 1 pm \nCinderberry Estates off Cinder Way\, S Front St and Primary Ave
URL:https://cinderberryestates.com/event/autumn-cinderberry-estates-homeowners-yard-sale/
ORGANIZER;CN="Cinderberry Estates HOA":MAILTO:VP@cinderberryestates.com
END:VEVENT
BEGIN:VEVENT
DTSTART;TZID=America/New_York:20240516T183000
DTEND;TZID=America/New_York:20240516T183000
DTSTAMP:20260424T095113
CREATED:20240404T144653Z
LAST-MODIFIED:20240508T163428Z
UID:1156-1715884200-1715884200@cinderberryestates.com
SUMMARY:Annual Meeting
DESCRIPTION:The HOA Board of Directors looks forward to seeing you at the Annual Membership meeting
URL:https://cinderberryestates.com/event/annual-meeting/
LOCATION:Georgetown Public Library\, 123 W Pine St.\, Georgetown\, 19947\, United States
END:VEVENT
END:VCALENDAR